BEGIN:VCALENDAR
VERSION:2.0
PRODID:-//Ihre mobile Hundeschule - ECPv6.15.20//NONSGML v1.0//EN
CALSCALE:GREGORIAN
METHOD:PUBLISH
X-WR-CALNAME:Ihre mobile Hundeschule
X-ORIGINAL-URL:https://mitdabeihunde.de
X-WR-CALDESC:Veranstaltungen für Ihre mobile Hundeschule
REFRESH-INTERVAL;VALUE=DURATION:PT1H
X-Robots-Tag:noindex
X-PUBLISHED-TTL:PT1H
BEGIN:VTIMEZONE
TZID:Europe/Berlin
BEGIN:DAYLIGHT
TZOFFSETFROM:+0100
TZOFFSETTO:+0200
TZNAME:CEST
DTSTART:20250330T010000
END:DAYLIGHT
BEGIN:STANDARD
TZOFFSETFROM:+0200
TZOFFSETTO:+0100
TZNAME:CET
DTSTART:20251026T010000
END:STANDARD
BEGIN:DAYLIGHT
TZOFFSETFROM:+0100
TZOFFSETTO:+0200
TZNAME:CEST
DTSTART:20260329T010000
END:DAYLIGHT
BEGIN:STANDARD
TZOFFSETFROM:+0200
TZOFFSETTO:+0100
TZNAME:CET
DTSTART:20261025T010000
END:STANDARD
BEGIN:DAYLIGHT
TZOFFSETFROM:+0100
TZOFFSETTO:+0200
TZNAME:CEST
DTSTART:20270328T010000
END:DAYLIGHT
BEGIN:STANDARD
TZOFFSETFROM:+0200
TZOFFSETTO:+0100
TZNAME:CET
DTSTART:20271031T010000
END:STANDARD
END:VTIMEZONE
BEGIN:VEVENT
DTSTART;TZID=Europe/Berlin:20260722T160000
DTEND;TZID=Europe/Berlin:20260722T180000
DTSTAMP:20260423T140609
CREATED:20260417T065824Z
LAST-MODIFIED:20260422T082412Z
UID:462-1784736000-1784743200@mitdabeihunde.de
SUMMARY:Mission alltagstauglicher Hund * Wildpark
DESCRIPTION:Ein weiterer Termin aus der ‚Wünsch-dir-was-Gruppe‘ zum Thema alltagstauglicher Hund  \nMitdabeiHunde im Wildpark Kaiserslautern \nmit dem Fokus auf die Themen:  \nNein mein Schatz\, wir jagen nicht – \nEin Besuch des Wildparks – viele Reize… \n\nraschelndes Laub\nintensive tierische Gerüche\numherspringendes Wild in den Gehegen …\n\neine Herausforderung nicht nur für jagdlich motivierte Hunde!! \n  \nWir laufen langsam und bewusst durch den Wildpark. Lesen und sprechen über die Körpersprache eurer Hunde. \nÜberprüfen die Ansprechbarkeit eurer Hunde – nehmen uns die Zeit\, die es braucht\, den Fokus eurer Hunde wieder herzustellen und sprechen auch über angemessene Korrekturen und selbstverständlich auch über ‚wann ist ein Lob ein Lob‘. \nEs heisst ‚Raus aus der Komfortzone!‘ … und das nicht nur für den Hund … \nHunde lernen ortsgebunden und situativ. Was sie auf dem Trainingsplatz oder im gewohnten Umfeld leisten können\, funktioniert woanders noch lange nicht. genau deshalb trainieren wir an immer anderen Orten und somit auch an wechselnden Situationen und unter realer Ablenkung. \nAnmeldung unter https://mitdabeihunde.de/anmeldung/ \n  \n  \n 
URL:https://mitdabeihunde.de/aktuelles/mission-alltagstauglicher-hund-7/
CATEGORIES:alltagstauglicher Hund
ATTACH;FMTTYPE=image/png:https://mitdabeihunde.de/wp-content/uploads/2026/04/Wildpark-22.07.26.png
END:VEVENT
END:VCALENDAR